BEGIN:VCALENDAR
VERSION:2.0
PRODID:-//The Currajong School - ECPv6.15.20//NONSGML v1.0//EN
CALSCALE:GREGORIAN
METHOD:PUBLISH
X-WR-CALNAME:The Currajong School
X-ORIGINAL-URL:https://currajong.vic.edu.au
X-WR-CALDESC:Events for The Currajong School
REFRESH-INTERVAL;VALUE=DURATION:PT1H
X-Robots-Tag:noindex
X-PUBLISHED-TTL:PT1H
BEGIN:VTIMEZONE
TZID:Australia/Melbourne
BEGIN:STANDARD
TZOFFSETFROM:+1100
TZOFFSETTO:+1000
TZNAME:AEST
DTSTART:20230401T160000
END:STANDARD
BEGIN:DAYLIGHT
TZOFFSETFROM:+1000
TZOFFSETTO:+1100
TZNAME:AEDT
DTSTART:20230930T160000
END:DAYLIGHT
BEGIN:STANDARD
TZOFFSETFROM:+1100
TZOFFSETTO:+1000
TZNAME:AEST
DTSTART:20240406T160000
END:STANDARD
BEGIN:DAYLIGHT
TZOFFSETFROM:+1000
TZOFFSETTO:+1100
TZNAME:AEDT
DTSTART:20241005T160000
END:DAYLIGHT
BEGIN:STANDARD
TZOFFSETFROM:+1100
TZOFFSETTO:+1000
TZNAME:AEST
DTSTART:20250405T160000
END:STANDARD
BEGIN:DAYLIGHT
TZOFFSETFROM:+1000
TZOFFSETTO:+1100
TZNAME:AEDT
DTSTART:20251004T160000
END:DAYLIGHT
END:VTIMEZONE
BEGIN:VEVENT
DTSTART;TZID=Australia/Melbourne:20241007T084500
DTEND;TZID=Australia/Melbourne:20241007T150000
DTSTAMP:20260425T131020
CREATED:20231010T033656Z
LAST-MODIFIED:20231010T033656Z
UID:2236-1728290700-1728313200@currajong.vic.edu.au
SUMMARY:Students Commence Term 4
DESCRIPTION:
URL:https://currajong.vic.edu.au/event/students-commence-term-4-3/
END:VEVENT
BEGIN:VEVENT
DTSTART;VALUE=DATE:20241025
DTEND;VALUE=DATE:20241026
DTSTAMP:20260425T131020
CREATED:20240508T040731Z
LAST-MODIFIED:20240508T040731Z
UID:2401-1729814400-1729900799@currajong.vic.edu.au
SUMMARY:World Teachers Day
DESCRIPTION:
URL:https://currajong.vic.edu.au/event/world-teachers-day/
END:VEVENT
BEGIN:VEVENT
DTSTART;TZID=Australia/Melbourne:20241028T153000
DTEND;TZID=Australia/Melbourne:20241028T163000
DTSTAMP:20260425T131020
CREATED:20240508T041047Z
LAST-MODIFIED:20240508T041220Z
UID:2403-1730129400-1730133000@currajong.vic.edu.au
SUMMARY:Student Support Group meetings
DESCRIPTION:
URL:https://currajong.vic.edu.au/event/ssgs/
END:VEVENT
BEGIN:VEVENT
DTSTART;TZID=Australia/Melbourne:20241029T153000
DTEND;TZID=Australia/Melbourne:20241029T163000
DTSTAMP:20260425T131020
CREATED:20240508T041150Z
LAST-MODIFIED:20240508T041150Z
UID:2405-1730215800-1730219400@currajong.vic.edu.au
SUMMARY:Student Support Group meetings
DESCRIPTION:
URL:https://currajong.vic.edu.au/event/student-support-group-meetings-23/
END:VEVENT
BEGIN:VEVENT
DTSTART;TZID=Australia/Melbourne:20241030T153000
DTEND;TZID=Australia/Melbourne:20241030T163000
DTSTAMP:20260425T131020
CREATED:20240508T041304Z
LAST-MODIFIED:20240508T041304Z
UID:2408-1730302200-1730305800@currajong.vic.edu.au
SUMMARY:Student Support Group meetings
DESCRIPTION:
URL:https://currajong.vic.edu.au/event/student-support-group-meetings-24/
END:VEVENT
END:VCALENDAR